BEGIN:VCALENDAR
VERSION:2.0
PRODID:-//bogen08.de//NONSGML kigkonsult.se iCalcreator 2.41.92//
CALSCALE:GREGORIAN
METHOD:PUBLISH
UID:65323331-6635-4238-b138-646163366562
X-WR-CALNAME:iCagenda
X-WR-CALDESC:Event Management Extension for Joomla!
X-WR-RELCALID:3E26604A-50F4-4449-8B3E-E4F4932D05B5
X-WR-TIMEZONE:Europe/Berlin
BEGIN:VTIMEZONE
TZID:Europe/Berlin
TZUNTIL:20280326T010000Z
BEGIN:STANDARD
TZNAME:CET
DTSTART:20251026T030000
TZOFFSETFROM:+0200
TZOFFSETTO:+0100
RDATE:20261025T030000
RDATE:20271031T030000
END:STANDARD
BEGIN:DAYLIGHT
TZNAME:CEST
DTSTART:20260329T020000
TZOFFSETFROM:+0100
TZOFFSETTO:+0200
RDATE:20270328T020000
END:DAYLIGHT
END:VTIMEZONE
BEGIN:VEVENT
UID:30646433-6665-4738-b936-333230303963
DTSTAMP:20260424T182738Z
CATEGORIES:Training
CLASS:PUBLIC
DESCRIPTION;ALTREP="CID:<FFFF__=0ABBE548DFE235B58f9e8a93d@coffeebean.com>":
 Ein intensives Training für Fortgeschrittene\, das gezielt an Technik\, Pr
 äzision und mentaler Stärke arbeitet. Im Fokus stehen saubere Bewegungsabl
 äufe\, Feinjustierung von Haltung und Ankerpunkt sowie die Optimierung von
  Schussrhythmus und Konzentration. Durch wettkampforientierte Übungen und 
 realistische Trainingssituationen werden die Teilnehmenden systematisch au
 f Turniere vorbereitet.\nVor erstmaliger Teilnahme wird um eine Kontaktauf
 nahme mit Cosima oder Caro gebeten. 
DTSTART:20260714T195900Z
DTEND:20260714T195900Z
GEO:+50.807674;+7.221999
LOCATION:Am Grafenkreuz 29\, 53721 Siegburg
ORGANIZER:
SEQUENCE:1
SUMMARY:Fortgeschrittenen-Training
TRANSP:OPAQUE
URL:https://bogen08.de/index.php/component/icagenda/16-fortgeschrittenen-tr
 aining-2/2026-07-14-21-59
END:VEVENT
END:VCALENDAR
