BEGIN:VCALENDAR
VERSION:2.0
PRODID:-//bogen08.de//NONSGML kigkonsult.se iCalcreator 2.41.92//
CALSCALE:GREGORIAN
METHOD:PUBLISH
UID:66303438-3732-4130-b563-653666633566
X-WR-CALNAME:iCagenda
X-WR-CALDESC:Event Management Extension for Joomla!
X-WR-RELCALID:3E26604A-50F4-4449-8B3E-E4F4932D05B5
X-WR-TIMEZONE:Europe/Berlin
BEGIN:VTIMEZONE
TZID:Europe/Berlin
TZUNTIL:20280326T010000Z
BEGIN:STANDARD
TZNAME:CET
DTSTART:20251026T030000
TZOFFSETFROM:+0200
TZOFFSETTO:+0100
RDATE:20261025T030000
RDATE:20271031T030000
END:STANDARD
BEGIN:DAYLIGHT
TZNAME:CEST
DTSTART:20260329T020000
TZOFFSETFROM:+0100
TZOFFSETTO:+0200
RDATE:20270328T020000
END:DAYLIGHT
END:VTIMEZONE
BEGIN:VEVENT
UID:35303233-6364-4237-b931-306536316466
DTSTAMP:20260424T211531Z
CATEGORIES:Training
CLASS:PUBLIC
DESCRIPTION;ALTREP="CID:<FFFF__=0ABBE548DFE235B58f9e8a93d@coffeebean.com>":
 Freies Training im Bogenschießen – hier steht deine persönliche Entwicklun
 g im Mittelpunkt. Ohne feste Vorgaben kannst du ganz nach deinen eigenen Z
 ielen und deinem Tempo trainieren: ob Technik verfeinern\, neue Schussstil
 e ausprobieren oder einfach entspannt Pfeile fliegen lassen. Alles ist mög
 lich\, solange es sich ums Bogenschießen dreht. Nutze die Zeit\, um Routin
 en zu festigen\, an individuellen Schwächen zu arbeiten oder dich kreativ 
 auszuprobieren.
DTSTART:20260710T201800Z
DTEND:20260710T201800Z
GEO:+50.807674;+7.221999
LOCATION:Am Grafenkreuz 29\, 53721 Siegburg
ORGANIZER:
SEQUENCE:1
SUMMARY:Freies Training
TRANSP:OPAQUE
URL:https://bogen08.de/index.php/component/icagenda/19-freies-training-3/20
 26-07-10-22-18
END:VEVENT
END:VCALENDAR
